BEGIN:VCALENDAR
VERSION:2.0
PRODID:-//Bodega Maruccia auf Mallorca - ECPv6.6.4.1//NONSGML v1.0//EN
CALSCALE:GREGORIAN
METHOD:PUBLISH
X-ORIGINAL-URL:https://maruccia.com
X-WR-CALDESC:Veranstaltungen für Bodega Maruccia auf Mallorca
REFRESH-INTERVAL;VALUE=DURATION:PT1H
X-Robots-Tag:noindex
X-PUBLISHED-TTL:PT1H
BEGIN:VTIMEZONE
TZID:Europe/Berlin
BEGIN:DAYLIGHT
TZOFFSETFROM:+0100
TZOFFSETTO:+0200
TZNAME:CEST
DTSTART:20240331T010000
END:DAYLIGHT
BEGIN:STANDARD
TZOFFSETFROM:+0200
TZOFFSETTO:+0100
TZNAME:CET
DTSTART:20241027T010000
END:STANDARD
END:VTIMEZONE
BEGIN:VEVENT
DTSTART;TZID=Europe/Berlin:20240330T193000
DTEND;TZID=Europe/Berlin:20240330T233000
DTSTAMP:20260421T222057
CREATED:20240315T210649Z
LAST-MODIFIED:20240317T094107Z
UID:10000015-1711827000-1711841400@maruccia.com
SUMMARY:Ostern kommt Bernd Bachofer erneut\, Karsamstag
DESCRIPTION:Zu Ostern kommt wieder zusammen\, was zusammen gehört. Sternekoch Bernd Bachofer kommt erneut auf die Bodega. Bernd kommt aus meiner alten Heimat und ist dort und weit darüber hinaus bekannt für seine asiatische Cross over Küche.\nTicketpreis pro Person inklusive Weinbegleitung: 210 für Mitglieder; 250 für geladene Gäste\nStart: 19.30 Uhr
URL:https://maruccia.com/eventkalender/ostern-kommt-bernd-bachofer-erneut-karsamstag/
LOCATION:Bodega Maruccia\, Camí de Son Mendívil B.30\, Illes Balears\, 07620\, Spanien
ATTACH;FMTTYPE=image/jpeg:https://maruccia.com/wp-content/uploads/2023/09/berndwand.jpeg
END:VEVENT
BEGIN:VEVENT
DTSTART;TZID=Europe/Berlin:20240329T193000
DTEND;TZID=Europe/Berlin:20240329T233000
DTSTAMP:20260421T222057
CREATED:20240315T211146Z
LAST-MODIFIED:20240317T094228Z
UID:10000016-1711740600-1711755000@maruccia.com
SUMMARY:Ostern kommt Bernd Bachofer erneut: Karfreitag
DESCRIPTION:Zu Ostern kommt wieder zusammen\, was zusammen gehört. Sternekoch Bernd Bachofer kommt erneut auf die Bodega. Bernd kommt aus meiner alten Heimat und ist dort und weit darüber hinaus bekannt für seine asiatische Cross over Küche.\nTicketpreis pro Person inklusive Weinbegleitung: 210 für Mitglieder; 250 für geladene Gäste\nStart: 19.30 Uhr
URL:https://maruccia.com/eventkalender/ostern-kommt-bernd-bachofer-erneut-karfreitag/
LOCATION:Bodega Maruccia\, Camí de Son Mendívil B.30\, Illes Balears\, 07620\, Spanien
ATTACH;FMTTYPE=image/jpeg:https://maruccia.com/wp-content/uploads/2023/09/berndwand.jpeg
END:VEVENT
END:VCALENDAR